BEGIN:VCALENDAR
VERSION:2.0
PRODID:-//Gymnasium Martino-Katharineum - ECPv6.15.15//NONSGML v1.0//EN
CALSCALE:GREGORIAN
METHOD:PUBLISH
X-WR-CALNAME:Gymnasium Martino-Katharineum
X-ORIGINAL-URL:https://mk-braunschweig.de
X-WR-CALDESC:Veranstaltungen für Gymnasium Martino-Katharineum
REFRESH-INTERVAL;VALUE=DURATION:PT1H
X-Robots-Tag:noindex
X-PUBLISHED-TTL:PT1H
BEGIN:VTIMEZONE
TZID:Europe/Berlin
BEGIN:DAYLIGHT
TZOFFSETFROM:+0100
TZOFFSETTO:+0200
TZNAME:CEST
DTSTART:20240331T010000
END:DAYLIGHT
BEGIN:STANDARD
TZOFFSETFROM:+0200
TZOFFSETTO:+0100
TZNAME:CET
DTSTART:20241027T010000
END:STANDARD
BEGIN:DAYLIGHT
TZOFFSETFROM:+0100
TZOFFSETTO:+0200
TZNAME:CEST
DTSTART:20250330T010000
END:DAYLIGHT
BEGIN:STANDARD
TZOFFSETFROM:+0200
TZOFFSETTO:+0100
TZNAME:CET
DTSTART:20251026T010000
END:STANDARD
BEGIN:DAYLIGHT
TZOFFSETFROM:+0100
TZOFFSETTO:+0200
TZNAME:CEST
DTSTART:20260329T010000
END:DAYLIGHT
BEGIN:STANDARD
TZOFFSETFROM:+0200
TZOFFSETTO:+0100
TZNAME:CET
DTSTART:20261025T010000
END:STANDARD
BEGIN:DAYLIGHT
TZOFFSETFROM:+0100
TZOFFSETTO:+0200
TZNAME:CEST
DTSTART:20270328T010000
END:DAYLIGHT
BEGIN:STANDARD
TZOFFSETFROM:+0200
TZOFFSETTO:+0100
TZNAME:CET
DTSTART:20271031T010000
END:STANDARD
END:VTIMEZONE
BEGIN:VEVENT
DTSTART;TZID=Europe/Berlin:20260418T100000
DTEND;TZID=Europe/Berlin:20260418T120000
DTSTAMP:20260423T101328
CREATED:20250825T124142Z
LAST-MODIFIED:20250825T124142Z
UID:5935-1776506400-1776513600@mk-braunschweig.de
SUMMARY:Tag der offenen Tür
DESCRIPTION:
URL:https://mk-braunschweig.de/event/tag-der-offenen-tuer-2/
END:VEVENT
BEGIN:VEVENT
DTSTART;VALUE=DATE:20260319
DTEND;VALUE=DATE:20260320
DTSTAMP:20260423T101328
CREATED:20250825T124110Z
LAST-MODIFIED:20250825T124110Z
UID:5933-1773878400-1773964799@mk-braunschweig.de
SUMMARY:Känguru-Wettbewerb
DESCRIPTION:
URL:https://mk-braunschweig.de/event/kaenguru-wettbewerb-3/
END:VEVENT
BEGIN:VEVENT
DTSTART;VALUE=DATE:20260313
DTEND;VALUE=DATE:20260314
DTSTAMP:20260423T101328
CREATED:20250911T093731Z
LAST-MODIFIED:20250911T093738Z
UID:5983-1773360000-1773446399@mk-braunschweig.de
SUMMARY:Hallenhockey-Endspieltag
DESCRIPTION:
URL:https://mk-braunschweig.de/event/hallenhockey-endspieltag/
END:VEVENT
BEGIN:VEVENT
DTSTART;VALUE=DATE:20260306
DTEND;VALUE=DATE:20260309
DTSTAMP:20260423T101328
CREATED:20250911T093706Z
LAST-MODIFIED:20250911T093706Z
UID:5981-1772755200-1773014399@mk-braunschweig.de
SUMMARY:SV-Fahrt
DESCRIPTION:
URL:https://mk-braunschweig.de/event/sv-fahrt/
END:VEVENT
BEGIN:VEVENT
DTSTART;VALUE=DATE:20260220
DTEND;VALUE=DATE:20260222
DTSTAMP:20260423T101328
CREATED:20250825T123928Z
LAST-MODIFIED:20250825T123928Z
UID:5929-1771545600-1771718399@mk-braunschweig.de
SUMMARY:Mathematik-Olympiade Landesrunde
DESCRIPTION:
URL:https://mk-braunschweig.de/event/mathematik-olympiade-landesrunde-2/
END:VEVENT
BEGIN:VEVENT
DTSTART;VALUE=DATE:20260220
DTEND;VALUE=DATE:20260221
DTSTAMP:20260423T101328
CREATED:20250825T123954Z
LAST-MODIFIED:20250825T123954Z
UID:5931-1771545600-1771631999@mk-braunschweig.de
SUMMARY:Elternsprechtag Jg. 6-13
DESCRIPTION:
URL:https://mk-braunschweig.de/event/elternsprechtag-jg-6-13-3/
END:VEVENT
BEGIN:VEVENT
DTSTART;VALUE=DATE:20260210
DTEND;VALUE=DATE:20260211
DTSTAMP:20260423T101328
CREATED:20250825T123844Z
LAST-MODIFIED:20250825T123844Z
UID:5927-1770681600-1770767999@mk-braunschweig.de
SUMMARY:Infoabend für Grundschüler/innen und ihre Eltern
DESCRIPTION:
URL:https://mk-braunschweig.de/event/infoabend-fuer-grundschueler-innen-und-ihre-eltern/
END:VEVENT
BEGIN:VEVENT
DTSTART;VALUE=DATE:20260209
DTEND;VALUE=DATE:20260228
DTSTAMP:20260423T101328
CREATED:20250825T123808Z
LAST-MODIFIED:20250825T123808Z
UID:5925-1770595200-1772236799@mk-braunschweig.de
SUMMARY:Betriebspraktikum Jg. 11
DESCRIPTION:
URL:https://mk-braunschweig.de/event/betriebspraktikum-jg-11-2/
END:VEVENT
BEGIN:VEVENT
DTSTART;TZID=Europe/Berlin:20260128T170000
DTEND;TZID=Europe/Berlin:20260128T190000
DTSTAMP:20260423T101328
CREATED:20250911T093605Z
LAST-MODIFIED:20250911T093605Z
UID:5979-1769619600-1769626800@mk-braunschweig.de
SUMMARY:Jg. 11 - Gesprächsabend zur Berufsorientierung mit Rotary
DESCRIPTION:
URL:https://mk-braunschweig.de/event/jg-11-gespraechsabend-zur-berufsorientierung-mit-rotary/
END:VEVENT
BEGIN:VEVENT
DTSTART;TZID=Europe/Berlin:20260119T180000
DTEND;TZID=Europe/Berlin:20260119T200000
DTSTAMP:20260423T101328
CREATED:20250821T123737Z
LAST-MODIFIED:20250821T123737Z
UID:5919-1768845600-1768852800@mk-braunschweig.de
SUMMARY:Infoabend Jg. 10 zur E-Phase
DESCRIPTION:
URL:https://mk-braunschweig.de/event/infoabend-jg-10-zur-e-phase/
END:VEVENT
BEGIN:VEVENT
DTSTART;VALUE=DATE:20260116
DTEND;VALUE=DATE:20260125
DTSTAMP:20260423T101328
CREATED:20250821T123652Z
LAST-MODIFIED:20250821T123652Z
UID:5917-1768521600-1769299199@mk-braunschweig.de
SUMMARY:Skifahrt Hinterglemm
DESCRIPTION:
URL:https://mk-braunschweig.de/event/skifahrt-hinterglemm-4/
END:VEVENT
BEGIN:VEVENT
DTSTART;VALUE=DATE:20260114
DTEND;VALUE=DATE:20260117
DTSTAMP:20260423T101328
CREATED:20250821T123631Z
LAST-MODIFIED:20250821T123631Z
UID:5915-1768348800-1768607999@mk-braunschweig.de
SUMMARY:Probenfahrt Musik
DESCRIPTION:
URL:https://mk-braunschweig.de/event/probenfahrt-musik/
END:VEVENT
BEGIN:VEVENT
DTSTART;VALUE=DATE:20260106
DTEND;VALUE=DATE:20260109
DTSTAMP:20260423T101328
CREATED:20250821T123606Z
LAST-MODIFIED:20250821T123606Z
UID:5913-1767657600-1767916799@mk-braunschweig.de
SUMMARY:Trainingslager Hockey
DESCRIPTION:
URL:https://mk-braunschweig.de/event/trainingslager-hockey-3/
END:VEVENT
BEGIN:VEVENT
DTSTART;VALUE=DATE:20260104
DTEND;VALUE=DATE:20260109
DTSTAMP:20260423T101328
CREATED:20250821T123542Z
LAST-MODIFIED:20250821T123542Z
UID:5911-1767484800-1767916799@mk-braunschweig.de
SUMMARY:Trainingslager Volleyball
DESCRIPTION:
URL:https://mk-braunschweig.de/event/trainingslager-volleyball-4/
END:VEVENT
BEGIN:VEVENT
DTSTART;TZID=Europe/Berlin:20251219T113500
DTEND;TZID=Europe/Berlin:20251219T131000
DTSTAMP:20260423T101328
CREATED:20250821T123505Z
LAST-MODIFIED:20250821T123505Z
UID:5909-1766144100-1766149800@mk-braunschweig.de
SUMMARY:Weihnachtsgottesdienst
DESCRIPTION:
URL:https://mk-braunschweig.de/event/weihnachtsgottesdienst-3/
END:VEVENT
BEGIN:VEVENT
DTSTART;VALUE=DATE:20251212
DTEND;VALUE=DATE:20251213
DTSTAMP:20260423T101328
CREATED:20250821T123430Z
LAST-MODIFIED:20250821T123430Z
UID:5907-1765497600-1765583999@mk-braunschweig.de
SUMMARY:Wintermarkt
DESCRIPTION:
URL:https://mk-braunschweig.de/event/wintermarkt-3/
END:VEVENT
BEGIN:VEVENT
DTSTART;VALUE=DATE:20251205
DTEND;VALUE=DATE:20251206
DTSTAMP:20260423T101328
CREATED:20250821T123411Z
LAST-MODIFIED:20250821T123411Z
UID:5905-1764892800-1764979199@mk-braunschweig.de
SUMMARY:Prävention Social Media Jg. 5
DESCRIPTION:
URL:https://mk-braunschweig.de/event/praevention-social-media-jg-5-2/
END:VEVENT
BEGIN:VEVENT
DTSTART;VALUE=DATE:20251201
DTEND;VALUE=DATE:20251204
DTSTAMP:20260423T101328
CREATED:20250821T123323Z
LAST-MODIFIED:20250821T123323Z
UID:5901-1764547200-1764806399@mk-braunschweig.de
SUMMARY:Prävention Social Media Jg. 5
DESCRIPTION:
URL:https://mk-braunschweig.de/event/praevention-social-media-jg-5/
END:VEVENT
BEGIN:VEVENT
DTSTART;TZID=Europe/Berlin:20251128T180000
DTEND;TZID=Europe/Berlin:20251128T210000
DTSTAMP:20260423T101328
CREATED:20250911T093437Z
LAST-MODIFIED:20250911T093437Z
UID:5977-1764352800-1764363600@mk-braunschweig.de
SUMMARY:Sek 0-Party
DESCRIPTION:
URL:https://mk-braunschweig.de/event/sek-0-party/
END:VEVENT
BEGIN:VEVENT
DTSTART;VALUE=DATE:20251121
DTEND;VALUE=DATE:20251122
DTSTAMP:20260423T101328
CREATED:20250821T123352Z
LAST-MODIFIED:20250924T092842Z
UID:5903-1763683200-1763769599@mk-braunschweig.de
SUMMARY:Elternsprechtag Jg. 5
DESCRIPTION:
URL:https://mk-braunschweig.de/event/elternsprechtag-jg-5-3/
END:VEVENT
BEGIN:VEVENT
DTSTART;VALUE=DATE:20251112
DTEND;VALUE=DATE:20251113
DTSTAMP:20260423T101328
CREATED:20250821T123258Z
LAST-MODIFIED:20250821T123258Z
UID:5899-1762905600-1762991999@mk-braunschweig.de
SUMMARY:Mathematik-Olympiade (Klausur)
DESCRIPTION:
URL:https://mk-braunschweig.de/event/mathematik-olympiade-klausur-3/
END:VEVENT
BEGIN:VEVENT
DTSTART;VALUE=DATE:20251107
DTEND;VALUE=DATE:20251110
DTSTAMP:20260423T101328
CREATED:20250821T123234Z
LAST-MODIFIED:20250821T123234Z
UID:5897-1762473600-1762732799@mk-braunschweig.de
SUMMARY:Model European Parliament
DESCRIPTION:
URL:https://mk-braunschweig.de/event/model-european-parliament-4/
END:VEVENT
BEGIN:VEVENT
DTSTART;VALUE=DATE:20251103
DTEND;VALUE=DATE:20251108
DTSTAMP:20260423T101328
CREATED:20250821T123208Z
LAST-MODIFIED:20250821T123208Z
UID:5895-1762128000-1762559999@mk-braunschweig.de
SUMMARY:Jugendbuchwoche
DESCRIPTION:
URL:https://mk-braunschweig.de/event/jugendbuchwoche-3/
END:VEVENT
BEGIN:VEVENT
DTSTART;VALUE=DATE:20250927
DTEND;VALUE=DATE:20251020
DTSTAMP:20260423T101328
CREATED:20250821T123057Z
LAST-MODIFIED:20250821T123057Z
UID:5893-1758931200-1760918399@mk-braunschweig.de
SUMMARY:Mexikoaustausch
DESCRIPTION:
URL:https://mk-braunschweig.de/event/mexikoaustausch-3/
END:VEVENT
BEGIN:VEVENT
DTSTART;VALUE=DATE:20250926
DTEND;VALUE=DATE:20251014
DTSTAMP:20260423T101328
CREATED:20250821T123033Z
LAST-MODIFIED:20250821T123033Z
UID:5891-1758844800-1760399999@mk-braunschweig.de
SUMMARY:USA-Austausch
DESCRIPTION:
URL:https://mk-braunschweig.de/event/usa-austausch-3/
END:VEVENT
BEGIN:VEVENT
DTSTART;TZID=Europe/Berlin:20250923T190000
DTEND;TZID=Europe/Berlin:20250923T220000
DTSTAMP:20260423T101328
CREATED:20250911T093244Z
LAST-MODIFIED:20250911T093244Z
UID:5975-1758654000-1758664800@mk-braunschweig.de
SUMMARY:Elternabend Mediennutzung (Herr Roos)
DESCRIPTION:
URL:https://mk-braunschweig.de/event/elternabend-mediennutzung-herr-roos-2/
END:VEVENT
BEGIN:VEVENT
DTSTART;VALUE=DATE:20250922
DTEND;VALUE=DATE:20251001
DTSTAMP:20260423T101328
CREATED:20240813T092311Z
LAST-MODIFIED:20250819T184556Z
UID:5164-1758499200-1759276799@mk-braunschweig.de
SUMMARY:Frankreichaustausch
DESCRIPTION:
URL:https://mk-braunschweig.de/event/frankreichaustausch-3/
END:VEVENT
BEGIN:VEVENT
DTSTART;VALUE=DATE:20250921
DTEND;VALUE=DATE:20250926
DTSTAMP:20260423T101328
CREATED:20250821T122959Z
LAST-MODIFIED:20250821T122959Z
UID:5889-1758412800-1758844799@mk-braunschweig.de
SUMMARY:Jugend trainiert für Olympia Bundesfinale Hockey
DESCRIPTION:
URL:https://mk-braunschweig.de/event/jugend-trainiert-fuer-olympia-bundesfinale-hockey/
END:VEVENT
BEGIN:VEVENT
DTSTART;VALUE=DATE:20250921
DTEND;VALUE=DATE:20250926
DTSTAMP:20260423T101328
CREATED:20250821T122939Z
LAST-MODIFIED:20250821T122939Z
UID:5887-1758412800-1758844799@mk-braunschweig.de
SUMMARY:Jugend trainiert für Olympia Bundesfinale Beachvolleyball
DESCRIPTION:
URL:https://mk-braunschweig.de/event/jugend-trainiert-fuer-olympia-bundesfinale-beachvolleyball/
END:VEVENT
BEGIN:VEVENT
DTSTART;VALUE=DATE:20250920
DTEND;VALUE=DATE:20250921
DTSTAMP:20260423T101328
CREATED:20250821T122850Z
LAST-MODIFIED:20250821T122850Z
UID:5885-1758326400-1758412799@mk-braunschweig.de
SUMMARY:Hoffest
DESCRIPTION:
URL:https://mk-braunschweig.de/event/hoffest-2/
END:VEVENT
END:VCALENDAR